BEGIN:VCALENDAR
VERSION:2.0
PRODID:-//ATARC - ECPv6.15.20//NONSGML v1.0//EN
CALSCALE:GREGORIAN
METHOD:PUBLISH
X-WR-CALNAME:ATARC
X-ORIGINAL-URL:http://atarc.org
X-WR-CALDESC:Events for ATARC
REFRESH-INTERVAL;VALUE=DURATION:PT1H
X-Robots-Tag:noindex
X-PUBLISHED-TTL:PT1H
BEGIN:VTIMEZONE
TZID:America/New_York
BEGIN:DAYLIGHT
TZOFFSETFROM:-0500
TZOFFSETTO:-0400
TZNAME:EDT
DTSTART:20240310T070000
END:DAYLIGHT
BEGIN:STANDARD
TZOFFSETFROM:-0400
TZOFFSETTO:-0500
TZNAME:EST
DTSTART:20241103T060000
END:STANDARD
BEGIN:DAYLIGHT
TZOFFSETFROM:-0500
TZOFFSETTO:-0400
TZNAME:EDT
DTSTART:20250309T070000
END:DAYLIGHT
BEGIN:STANDARD
TZOFFSETFROM:-0400
TZOFFSETTO:-0500
TZNAME:EST
DTSTART:20251102T060000
END:STANDARD
BEGIN:DAYLIGHT
TZOFFSETFROM:-0500
TZOFFSETTO:-0400
TZNAME:EDT
DTSTART:20260308T070000
END:DAYLIGHT
BEGIN:STANDARD
TZOFFSETFROM:-0400
TZOFFSETTO:-0500
TZNAME:EST
DTSTART:20261101T060000
END:STANDARD
END:VTIMEZONE
BEGIN:VEVENT
DTSTART;TZID=America/New_York:20250916T133000
DTEND;TZID=America/New_York:20250916T140000
DTSTAMP:20260423T062910
CREATED:20250825T190308Z
LAST-MODIFIED:20250904T201026Z
UID:990004712-1758029400-1758031200@atarc.org
SUMMARY:Looking Ahead at the SCRM Landscape Webinar
DESCRIPTION:Webinar starts in:\n					\n						 \n						Day(s) \n					\n						: \n					\n						 \n						Hour(s) \n					\n						: \n					\n						 \n						Minute(s) \n					\n						: \n					\n						 \n						Second(s) \n					\n				\n			\n			\n				\n				\n				\n				\n			\n				\n				\n				\n				\n				\n				\n				\n				\n				\n				\n				About this Webinar:\n			\n				\n				\n				\n				\n				Join ATARC’s Supply Chain Risk Management (SCRM) Working Group Leadership Team for an upcoming webinar exploring insights from the group’s recent document\, “Supply Chain Risk Management Practices: Consensus Considerations for SCRM Processes in Modern Enterprises.” The session will highlight key strategies for addressing risks such as cybersecurity\, acquisition integrity\, logistics\, bills of materials\, and incident response. We will also share next steps for the SCRM Working Group\, including practical tools\, expanded BOM concepts\, and a demonstration lab to showcase solutions that strengthen resilience across government and industry. \n			\n				\n				\n				\n				\n				Speakers:\n			\n			\n				\n				\n				\n				\n			\n				\n				\n				\n				\n				\n				\n			\n				\n				\n				\n				\n				\n				\n				\n				\n				\n				\n				\n					Mohamed Kortam\n					Industry Chair \n					Chief AI and Engineering Officer \nLineaje \n					\n				\n			\n			\n				\n				\n				\n				\n				\n				\n				\n				\n				\n				\n				\n					Alex Whitworth\n					Carahsoft Chair \n					Sales Director \nCarahsoft \n					\n				\n			\n			\n				\n				\n				\n				\n				\n				\n				\n				\n				\n				\n				\n					Timothy Amerson\n					Advisor Chair \n					Founder / CEO / CISO \nCASMO Consulting \n					\n				\n			\n			\n				\n				\n				\n				\n				\n			\n				\n				\n				\n				\n			\n				\n				\n			\n				\n				\n				\n				\n				\n				\n				\n				\n				\n				\n				\n				\n				\n				Register\n			\n			\n				\n				\n				\n				\n			\n				\n				\n			\n				\n				\n				\n				\n				\n				\n				\n				\n				\n				\n				\n				\n				\n				\n				\n				\n				\n				\n			\n			\n				\n				\n				\n				\n				\n				\n				\n				\n				\n				Zoom for Government enables ATARC remote collaboration opportunities through its cloud platform for video and audio conferencing\, chats and webinars across all devices. Allowing for individuals from all areas of government\, industry and academia to communicate directly. 
URL:http://atarc.org/event/looking-ahead-at-the-scrm-landscape-webinar/
LOCATION:Virtual
CATEGORIES:What’s happening at ATARC
END:VEVENT
END:VCALENDAR