BEGIN:VCALENDAR
VERSION:2.0
PRODID:-//ATARC - ECPv6.15.20//NONSGML v1.0//EN
CALSCALE:GREGORIAN
METHOD:PUBLISH
X-WR-CALNAME:ATARC
X-ORIGINAL-URL:http://atarc.org
X-WR-CALDESC:Events for ATARC
REFRESH-INTERVAL;VALUE=DURATION:PT1H
X-Robots-Tag:noindex
X-PUBLISHED-TTL:PT1H
BEGIN:VTIMEZONE
TZID:America/New_York
BEGIN:DAYLIGHT
TZOFFSETFROM:-0500
TZOFFSETTO:-0400
TZNAME:EDT
DTSTART:20250309T070000
END:DAYLIGHT
BEGIN:STANDARD
TZOFFSETFROM:-0400
TZOFFSETTO:-0500
TZNAME:EST
DTSTART:20251102T060000
END:STANDARD
BEGIN:DAYLIGHT
TZOFFSETFROM:-0500
TZOFFSETTO:-0400
TZNAME:EDT
DTSTART:20260308T070000
END:DAYLIGHT
BEGIN:STANDARD
TZOFFSETFROM:-0400
TZOFFSETTO:-0500
TZNAME:EST
DTSTART:20261101T060000
END:STANDARD
BEGIN:DAYLIGHT
TZOFFSETFROM:-0500
TZOFFSETTO:-0400
TZNAME:EDT
DTSTART:20270314T070000
END:DAYLIGHT
BEGIN:STANDARD
TZOFFSETFROM:-0400
TZOFFSETTO:-0500
TZNAME:EST
DTSTART:20271107T060000
END:STANDARD
END:VTIMEZONE
BEGIN:VEVENT
DTSTART;TZID=America/New_York:20260416T120000
DTEND;TZID=America/New_York:20260416T130000
DTSTAMP:20260420T104423
CREATED:20250305T203317Z
LAST-MODIFIED:20251110T203644Z
UID:990004401-1776340800-1776344400@atarc.org
SUMMARY:Insider Risk Working Group
DESCRIPTION:Join ATARC’s Insider Risk Working Group bi-weekly\, Thursday afternoon meeting. For more information on ATARC Working Groups\, contact ATARC’s Working Group Manager\, Elizabeth Wyckoff\, at ewyckoff@atarc.org.
URL:http://atarc.org/event/insider-risk-working-group-meeting-2/2026-04-16/
LOCATION:Virtual
CATEGORIES:Working Group Meeting
END:VEVENT
BEGIN:VEVENT
DTSTART;TZID=America/New_York:20260416T103000
DTEND;TZID=America/New_York:20260416T113000
DTSTAMP:20260420T104423
CREATED:20250212T174940Z
LAST-MODIFIED:20251110T203636Z
UID:990003869-1776335400-1776339000@atarc.org
SUMMARY:Fraud Detection and Mitigation Working Group
DESCRIPTION:Join ATARC’s Fraud Working Group bi-weekly\, Thursday morning meeting. For more information on ATARC Working Groups\, contact our Working Group Team at workinggroups@atarc.org.
URL:http://atarc.org/event/987505184/2026-04-16/
LOCATION:Virtual
CATEGORIES:Working Group Meeting
END:VEVENT
BEGIN:VEVENT
DTSTART;TZID=America/New_York:20260415T110000
DTEND;TZID=America/New_York:20260415T120000
DTSTAMP:20260420T104423
CREATED:20251230T165312Z
LAST-MODIFIED:20251230T170113Z
UID:990005066-1776250800-1776254400@atarc.org
SUMMARY:Golden Dome Innovation Working Group
DESCRIPTION:Join ATARC’s Golden Dome Innovation Working Group bi-weekly\, Wednesday meeting. For more information on ATARC Working Groups contact ATARC’s\, Working Group Manager\, Elizabeth Wyckoff\, at ewyckoff@atarc.org.
URL:http://atarc.org/event/golden-dome-innovation-working-group/2026-04-15/
LOCATION:Virtual
CATEGORIES:Working Group Meeting
END:VEVENT
BEGIN:VEVENT
DTSTART;TZID=America/New_York:20260415T110000
DTEND;TZID=America/New_York:20260415T120000
DTSTAMP:20260420T104423
CREATED:20251230T161554Z
LAST-MODIFIED:20260318T141236Z
UID:990004887-1776250800-1776254400@atarc.org
SUMMARY:Agentic AI Working Group
DESCRIPTION:Join ATARC’s Agentic AI Working Group bi-weekly\, Wednesday morning meeting. For more information on ATARC Working Groups\, contact our Working Group Team at workinggroups@atarc.org.
URL:http://atarc.org/event/generative-ai-working-group-2-2/2026-04-15/
LOCATION:Virtual
CATEGORIES:Working Group Meeting
END:VEVENT
BEGIN:VEVENT
DTSTART;TZID=America/New_York:20260410T103000
DTEND;TZID=America/New_York:20260410T113000
DTSTAMP:20260420T104423
CREATED:20191217T150238Z
LAST-MODIFIED:20251230T163908Z
UID:990005030-1775817000-1775820600@atarc.org
SUMMARY:Identity Management Working Group
DESCRIPTION:Join ATARC’s Identity Management Working Group bi-weekly\, Friday morning meeting. For more information on ATARC Working Groups contact ATARC’s\, Working Group Manager\, Elizabeth Wyckoff\, at ewyckoff@atarc.org.
URL:http://atarc.org/event/identity-management-project-team/2026-04-10/
LOCATION:Virtual
CATEGORIES:Working Group Meeting
END:VEVENT
BEGIN:VEVENT
DTSTART;TZID=America/New_York:20260409T120000
DTEND;TZID=America/New_York:20260409T130000
DTSTAMP:20260420T104423
CREATED:20250730T154320Z
LAST-MODIFIED:20251230T163019Z
UID:990004654-1775736000-1775739600@atarc.org
SUMMARY:cATO Working Group Meeting
DESCRIPTION:Join ATARC’s cATO Working Group kickoff. For more information on ATARC Working Groups\, contact our Working Group Team at workinggroups@atarc.org.
URL:http://atarc.org/event/cato-working-group-meeting-2/2026-04-09/
LOCATION:Virtual
CATEGORIES:Working Group Meeting
END:VEVENT
BEGIN:VEVENT
DTSTART;TZID=America/New_York:20260408T143000
DTEND;TZID=America/New_York:20260408T153000
DTSTAMP:20260420T104423
CREATED:20250630T195307Z
LAST-MODIFIED:20251230T162941Z
UID:990003385-1775658600-1775662200@atarc.org
SUMMARY:DevSecOps Working Group
DESCRIPTION:Join ATARC’s DevSecOps Working Group bi-weekly\, Wednesday afternoon meeting. For more information on ATARC Working Groups\, contact our Working Group Team at workinggroups@atarc.org.
URL:http://atarc.org/event/devsecops-working-group-2/2026-04-08/
LOCATION:Virtual
CATEGORIES:Working Group Meeting
END:VEVENT
BEGIN:VEVENT
DTSTART;TZID=America/New_York:20260408T113000
DTEND;TZID=America/New_York:20260408T123000
DTSTAMP:20260420T104423
CREATED:20250211T183417Z
LAST-MODIFIED:20260324T220044Z
UID:990003042-1775647800-1775651400@atarc.org
SUMMARY:SCRM Working Group
DESCRIPTION:Join ATARC’s SCRM Working Group bi-weekly\, Wednesday afternoon meeting. For more information on ATARC Working Groups\, contact our Working Group Team at workinggroups@atarc.org.
URL:http://atarc.org/event/scrm-working-group-meeting-2/2026-04-08/
LOCATION:Virtual
CATEGORIES:Working Group Meeting
END:VEVENT
BEGIN:VEVENT
DTSTART;TZID=America/New_York:20260407T110000
DTEND;TZID=America/New_York:20260407T120000
DTSTAMP:20260420T104423
CREATED:20251230T165938Z
LAST-MODIFIED:20251230T170258Z
UID:990005091-1775559600-1775563200@atarc.org
SUMMARY:Threat Intelligence Working Group
DESCRIPTION:Join ATARC’s Threat Intelligence Working Group bi-weekly\, Tuesday morning meeting. For more information on ATARC Working Groups contact ATARC’s\, Working Group Manager\, Elizabeth Wyckoff\, at ewyckoff@atarc.org.
URL:http://atarc.org/event/threat-intelligence-working-group-2/2026-04-07/
LOCATION:Virtual
CATEGORIES:Working Group Meeting
END:VEVENT
BEGIN:VEVENT
DTSTART;TZID=America/New_York:20260403T140000
DTEND;TZID=America/New_York:20260403T150000
DTSTAMP:20260420T104423
CREATED:20240903T155044Z
LAST-MODIFIED:20251230T164444Z
UID:990003161-1775224800-1775228400@atarc.org
SUMMARY:ATARC Cybersecurity Education & Workforce Development Working Group
DESCRIPTION:Join ATARC’s Cybersecurity Education & Workforce Development Working Group monthly\, Friday afternoon meeting. For more information on ATARC Working Groups contact ATARC’s Working Group Manager\, Elizabeth Wyckoff\, at ewyckoff@atarc.org.
URL:http://atarc.org/event/atarc-cybersecurity-higher-education-workforce-development-working-group-2-2/2026-04-03/
LOCATION:Virtual
CATEGORIES:Working Group Meeting
END:VEVENT
BEGIN:VEVENT
DTSTART;TZID=America/New_York:20260402T120000
DTEND;TZID=America/New_York:20260402T130000
DTSTAMP:20260420T104423
CREATED:20250305T203317Z
LAST-MODIFIED:20251110T203644Z
UID:990004400-1775131200-1775134800@atarc.org
SUMMARY:Insider Risk Working Group
DESCRIPTION:Join ATARC’s Insider Risk Working Group bi-weekly\, Thursday afternoon meeting. For more information on ATARC Working Groups\, contact ATARC’s Working Group Manager\, Elizabeth Wyckoff\, at ewyckoff@atarc.org.
URL:http://atarc.org/event/insider-risk-working-group-meeting-2/2026-04-02/
LOCATION:Virtual
CATEGORIES:Working Group Meeting
END:VEVENT
BEGIN:VEVENT
DTSTART;TZID=America/New_York:20260402T103000
DTEND;TZID=America/New_York:20260402T113000
DTSTAMP:20260420T104423
CREATED:20250212T174940Z
LAST-MODIFIED:20251110T203636Z
UID:990003868-1775125800-1775129400@atarc.org
SUMMARY:Fraud Detection and Mitigation Working Group
DESCRIPTION:Join ATARC’s Fraud Working Group bi-weekly\, Thursday morning meeting. For more information on ATARC Working Groups\, contact our Working Group Team at workinggroups@atarc.org.
URL:http://atarc.org/event/987505184/2026-04-02/
LOCATION:Virtual
CATEGORIES:Working Group Meeting
END:VEVENT
BEGIN:VEVENT
DTSTART;TZID=America/New_York:20260401T110000
DTEND;TZID=America/New_York:20260401T120000
DTSTAMP:20260420T104423
CREATED:20251230T165312Z
LAST-MODIFIED:20251230T170113Z
UID:990005065-1775041200-1775044800@atarc.org
SUMMARY:Golden Dome Innovation Working Group
DESCRIPTION:Join ATARC’s Golden Dome Innovation Working Group bi-weekly\, Wednesday meeting. For more information on ATARC Working Groups contact ATARC’s\, Working Group Manager\, Elizabeth Wyckoff\, at ewyckoff@atarc.org.
URL:http://atarc.org/event/golden-dome-innovation-working-group/2026-04-01/
LOCATION:Virtual
CATEGORIES:Working Group Meeting
END:VEVENT
BEGIN:VEVENT
DTSTART;TZID=America/New_York:20260401T110000
DTEND;TZID=America/New_York:20260401T120000
DTSTAMP:20260420T104423
CREATED:20251230T161554Z
LAST-MODIFIED:20260318T141236Z
UID:990004886-1775041200-1775044800@atarc.org
SUMMARY:Agentic AI Working Group
DESCRIPTION:Join ATARC’s Agentic AI Working Group bi-weekly\, Wednesday morning meeting. For more information on ATARC Working Groups\, contact our Working Group Team at workinggroups@atarc.org.
URL:http://atarc.org/event/generative-ai-working-group-2-2/2026-04-01/
LOCATION:Virtual
CATEGORIES:Working Group Meeting
END:VEVENT
BEGIN:VEVENT
DTSTART;TZID=America/New_York:20260327T103000
DTEND;TZID=America/New_York:20260327T113000
DTSTAMP:20260420T104423
CREATED:20191217T150238Z
LAST-MODIFIED:20251230T163908Z
UID:990005029-1774607400-1774611000@atarc.org
SUMMARY:Identity Management Working Group
DESCRIPTION:Join ATARC’s Identity Management Working Group bi-weekly\, Friday morning meeting. For more information on ATARC Working Groups contact ATARC’s\, Working Group Manager\, Elizabeth Wyckoff\, at ewyckoff@atarc.org.
URL:http://atarc.org/event/identity-management-project-team/2026-03-27/
LOCATION:Virtual
CATEGORIES:Working Group Meeting
END:VEVENT
BEGIN:VEVENT
DTSTART;TZID=America/New_York:20260326T120000
DTEND;TZID=America/New_York:20260326T130000
DTSTAMP:20260420T104423
CREATED:20250730T154320Z
LAST-MODIFIED:20251230T163019Z
UID:990004653-1774526400-1774530000@atarc.org
SUMMARY:cATO Working Group Meeting
DESCRIPTION:Join ATARC’s cATO Working Group kickoff. For more information on ATARC Working Groups\, contact our Working Group Team at workinggroups@atarc.org.
URL:http://atarc.org/event/cato-working-group-meeting-2/2026-03-26/
LOCATION:Virtual
CATEGORIES:Working Group Meeting
END:VEVENT
BEGIN:VEVENT
DTSTART;TZID=America/New_York:20260325T143000
DTEND;TZID=America/New_York:20260325T153000
DTSTAMP:20260420T104423
CREATED:20250630T195307Z
LAST-MODIFIED:20251230T162941Z
UID:990003384-1774449000-1774452600@atarc.org
SUMMARY:DevSecOps Working Group
DESCRIPTION:Join ATARC’s DevSecOps Working Group bi-weekly\, Wednesday afternoon meeting. For more information on ATARC Working Groups\, contact our Working Group Team at workinggroups@atarc.org.
URL:http://atarc.org/event/devsecops-working-group-2/2026-03-25/
LOCATION:Virtual
CATEGORIES:Working Group Meeting
END:VEVENT
BEGIN:VEVENT
DTSTART;TZID=America/New_York:20260324T110000
DTEND;TZID=America/New_York:20260324T120000
DTSTAMP:20260420T104423
CREATED:20251230T165938Z
LAST-MODIFIED:20251230T170258Z
UID:990005090-1774350000-1774353600@atarc.org
SUMMARY:Threat Intelligence Working Group
DESCRIPTION:Join ATARC’s Threat Intelligence Working Group bi-weekly\, Tuesday morning meeting. For more information on ATARC Working Groups contact ATARC’s\, Working Group Manager\, Elizabeth Wyckoff\, at ewyckoff@atarc.org.
URL:http://atarc.org/event/threat-intelligence-working-group-2/2026-03-24/
LOCATION:Virtual
CATEGORIES:Working Group Meeting
END:VEVENT
BEGIN:VEVENT
DTSTART;TZID=America/New_York:20260319T120000
DTEND;TZID=America/New_York:20260319T130000
DTSTAMP:20260420T104423
CREATED:20250305T203317Z
LAST-MODIFIED:20251110T203644Z
UID:990004399-1773921600-1773925200@atarc.org
SUMMARY:Insider Risk Working Group
DESCRIPTION:Join ATARC’s Insider Risk Working Group bi-weekly\, Thursday afternoon meeting. For more information on ATARC Working Groups\, contact ATARC’s Working Group Manager\, Elizabeth Wyckoff\, at ewyckoff@atarc.org.
URL:http://atarc.org/event/insider-risk-working-group-meeting-2/2026-03-19/
LOCATION:Virtual
CATEGORIES:Working Group Meeting
END:VEVENT
BEGIN:VEVENT
DTSTART;TZID=America/New_York:20260319T103000
DTEND;TZID=America/New_York:20260319T113000
DTSTAMP:20260420T104423
CREATED:20250212T174940Z
LAST-MODIFIED:20251110T203636Z
UID:990003867-1773916200-1773919800@atarc.org
SUMMARY:Fraud Detection and Mitigation Working Group
DESCRIPTION:Join ATARC’s Fraud Working Group bi-weekly\, Thursday morning meeting. For more information on ATARC Working Groups\, contact our Working Group Team at workinggroups@atarc.org.
URL:http://atarc.org/event/987505184/2026-03-19/
LOCATION:Virtual
CATEGORIES:Working Group Meeting
END:VEVENT
BEGIN:VEVENT
DTSTART;TZID=America/New_York:20260318T110000
DTEND;TZID=America/New_York:20260318T120000
DTSTAMP:20260420T104423
CREATED:20251230T165312Z
LAST-MODIFIED:20251230T170113Z
UID:990005064-1773831600-1773835200@atarc.org
SUMMARY:Golden Dome Innovation Working Group
DESCRIPTION:Join ATARC’s Golden Dome Innovation Working Group bi-weekly\, Wednesday meeting. For more information on ATARC Working Groups contact ATARC’s\, Working Group Manager\, Elizabeth Wyckoff\, at ewyckoff@atarc.org.
URL:http://atarc.org/event/golden-dome-innovation-working-group/2026-03-18/
LOCATION:Virtual
CATEGORIES:Working Group Meeting
END:VEVENT
BEGIN:VEVENT
DTSTART;TZID=America/New_York:20260313T103000
DTEND;TZID=America/New_York:20260313T113000
DTSTAMP:20260420T104423
CREATED:20191217T150238Z
LAST-MODIFIED:20251230T163908Z
UID:990005028-1773397800-1773401400@atarc.org
SUMMARY:Identity Management Working Group
DESCRIPTION:Join ATARC’s Identity Management Working Group bi-weekly\, Friday morning meeting. For more information on ATARC Working Groups contact ATARC’s\, Working Group Manager\, Elizabeth Wyckoff\, at ewyckoff@atarc.org.
URL:http://atarc.org/event/identity-management-project-team/2026-03-13/
LOCATION:Virtual
CATEGORIES:Working Group Meeting
END:VEVENT
BEGIN:VEVENT
DTSTART;TZID=America/New_York:20260312T120000
DTEND;TZID=America/New_York:20260312T130000
DTSTAMP:20260420T104423
CREATED:20250730T154320Z
LAST-MODIFIED:20251230T163019Z
UID:990004652-1773316800-1773320400@atarc.org
SUMMARY:cATO Working Group Meeting
DESCRIPTION:Join ATARC’s cATO Working Group kickoff. For more information on ATARC Working Groups\, contact our Working Group Team at workinggroups@atarc.org.
URL:http://atarc.org/event/cato-working-group-meeting-2/2026-03-12/
LOCATION:Virtual
CATEGORIES:Working Group Meeting
END:VEVENT
BEGIN:VEVENT
DTSTART;TZID=America/New_York:20260312T110000
DTEND;TZID=America/New_York:20260312T120000
DTSTAMP:20260420T104423
CREATED:20250305T175050Z
LAST-MODIFIED:20260406T140350Z
UID:990004320-1773313200-1773316800@atarc.org
SUMMARY:Zero Trust Working Group
DESCRIPTION:Join ATARC’s Zero Trust Working Group monthly\, Thursday morning meeting. For more information on ATARC Working Groups contact ATARC’s Working Group Manager\, Elizabeth Wyckoff\, at ewyckoff@atarc.org.
URL:http://atarc.org/event/zero-trust-working-group-gov-only-2-3/2026-03-12/
LOCATION:Virtual
CATEGORIES:Working Group Meeting
END:VEVENT
BEGIN:VEVENT
DTSTART;TZID=America/New_York:20260311T143000
DTEND;TZID=America/New_York:20260311T153000
DTSTAMP:20260420T104423
CREATED:20250630T195307Z
LAST-MODIFIED:20251230T162941Z
UID:990003383-1773239400-1773243000@atarc.org
SUMMARY:DevSecOps Working Group
DESCRIPTION:Join ATARC’s DevSecOps Working Group bi-weekly\, Wednesday afternoon meeting. For more information on ATARC Working Groups\, contact our Working Group Team at workinggroups@atarc.org.
URL:http://atarc.org/event/devsecops-working-group-2/2026-03-11/
LOCATION:Virtual
CATEGORIES:Working Group Meeting
END:VEVENT
BEGIN:VEVENT
DTSTART;TZID=America/New_York:20260311T113000
DTEND;TZID=America/New_York:20260311T123000
DTSTAMP:20260420T104423
CREATED:20250211T183417Z
LAST-MODIFIED:20260324T220044Z
UID:990003040-1773228600-1773232200@atarc.org
SUMMARY:SCRM Working Group
DESCRIPTION:Join ATARC’s SCRM Working Group bi-weekly\, Wednesday afternoon meeting. For more information on ATARC Working Groups\, contact our Working Group Team at workinggroups@atarc.org.
URL:http://atarc.org/event/scrm-working-group-meeting-2/2026-03-11/
LOCATION:Virtual
CATEGORIES:Working Group Meeting
END:VEVENT
BEGIN:VEVENT
DTSTART;TZID=America/New_York:20260310T110000
DTEND;TZID=America/New_York:20260310T120000
DTSTAMP:20260420T104423
CREATED:20251230T165938Z
LAST-MODIFIED:20251230T170258Z
UID:990005089-1773140400-1773144000@atarc.org
SUMMARY:Threat Intelligence Working Group
DESCRIPTION:Join ATARC’s Threat Intelligence Working Group bi-weekly\, Tuesday morning meeting. For more information on ATARC Working Groups contact ATARC’s\, Working Group Manager\, Elizabeth Wyckoff\, at ewyckoff@atarc.org.
URL:http://atarc.org/event/threat-intelligence-working-group-2/2026-03-10/
LOCATION:Virtual
CATEGORIES:Working Group Meeting
END:VEVENT
BEGIN:VEVENT
DTSTART;TZID=America/New_York:20260306T140000
DTEND;TZID=America/New_York:20260306T150000
DTSTAMP:20260420T104423
CREATED:20240903T155044Z
LAST-MODIFIED:20251230T164444Z
UID:990003160-1772805600-1772809200@atarc.org
SUMMARY:ATARC Cybersecurity Education & Workforce Development Working Group
DESCRIPTION:Join ATARC’s Cybersecurity Education & Workforce Development Working Group monthly\, Friday afternoon meeting. For more information on ATARC Working Groups contact ATARC’s Working Group Manager\, Elizabeth Wyckoff\, at ewyckoff@atarc.org.
URL:http://atarc.org/event/atarc-cybersecurity-higher-education-workforce-development-working-group-2-2/2026-03-06/
LOCATION:Virtual
CATEGORIES:Working Group Meeting
END:VEVENT
BEGIN:VEVENT
DTSTART;TZID=America/New_York:20260305T120000
DTEND;TZID=America/New_York:20260305T130000
DTSTAMP:20260420T104423
CREATED:20250305T203317Z
LAST-MODIFIED:20251110T203644Z
UID:990004398-1772712000-1772715600@atarc.org
SUMMARY:Insider Risk Working Group
DESCRIPTION:Join ATARC’s Insider Risk Working Group bi-weekly\, Thursday afternoon meeting. For more information on ATARC Working Groups\, contact ATARC’s Working Group Manager\, Elizabeth Wyckoff\, at ewyckoff@atarc.org.
URL:http://atarc.org/event/insider-risk-working-group-meeting-2/2026-03-05/
LOCATION:Virtual
CATEGORIES:Working Group Meeting
END:VEVENT
BEGIN:VEVENT
DTSTART;TZID=America/New_York:20260305T103000
DTEND;TZID=America/New_York:20260305T113000
DTSTAMP:20260420T104423
CREATED:20250212T174940Z
LAST-MODIFIED:20251110T203636Z
UID:990003866-1772706600-1772710200@atarc.org
SUMMARY:Fraud Detection and Mitigation Working Group
DESCRIPTION:Join ATARC’s Fraud Working Group bi-weekly\, Thursday morning meeting. For more information on ATARC Working Groups\, contact our Working Group Team at workinggroups@atarc.org.
URL:http://atarc.org/event/987505184/2026-03-05/
LOCATION:Virtual
CATEGORIES:Working Group Meeting
END:VEVENT
END:VCALENDAR