BEGIN:VCALENDAR
VERSION:2.0
PRODID:-//ATARC - ECPv6.15.20//NONSGML v1.0//EN
CALSCALE:GREGORIAN
METHOD:PUBLISH
X-ORIGINAL-URL:https://atarc.org
X-WR-CALDESC:Events for ATARC
REFRESH-INTERVAL;VALUE=DURATION:PT1H
X-Robots-Tag:noindex
X-PUBLISHED-TTL:PT1H
BEGIN:VTIMEZONE
TZID:America/New_York
BEGIN:DAYLIGHT
TZOFFSETFROM:-0500
TZOFFSETTO:-0400
TZNAME:EDT
DTSTART:20240310T070000
END:DAYLIGHT
BEGIN:STANDARD
TZOFFSETFROM:-0400
TZOFFSETTO:-0500
TZNAME:EST
DTSTART:20241103T060000
END:STANDARD
BEGIN:DAYLIGHT
TZOFFSETFROM:-0500
TZOFFSETTO:-0400
TZNAME:EDT
DTSTART:20250309T070000
END:DAYLIGHT
BEGIN:STANDARD
TZOFFSETFROM:-0400
TZOFFSETTO:-0500
TZNAME:EST
DTSTART:20251102T060000
END:STANDARD
BEGIN:DAYLIGHT
TZOFFSETFROM:-0500
TZOFFSETTO:-0400
TZNAME:EDT
DTSTART:20260308T070000
END:DAYLIGHT
BEGIN:STANDARD
TZOFFSETFROM:-0400
TZOFFSETTO:-0500
TZNAME:EST
DTSTART:20261101T060000
END:STANDARD
END:VTIMEZONE
BEGIN:VEVENT
DTSTART;TZID=America/New_York:20251211T080000
DTEND;TZID=America/New_York:20251211T143000
DTSTAMP:20260422T001632
CREATED:20250113T200156Z
LAST-MODIFIED:20251006T152307Z
UID:990003571-1765440000-1765463400@atarc.org
SUMMARY:Public Sector CIO Summit
DESCRIPTION:  \nPublic Sector CIO Summit\n			\n				\n				\n				\n				\n				December 11\, 2025 | 8:00am – 2:30pm ET | Carahsoft Conference and Collaboration Center\n**6 CPE Credits Available\n			\n			\n				\n				\n				\n				\n			\n				\n				\n				\n				\n				\n				\n				Register\n			\n			\n				\n				\n				\n				\n			\n				\n				\n			\n				\n				\n				\n				\n				\n				\n				\n				\n				\n				\n				\n				\n				\n				\n				\n				\n				\n				\n					Summit Begins in...\n					\n						 \n						Day(s) \n					\n						: \n					\n						 \n						Hour(s) \n					\n						: \n					\n						 \n						Minute(s) \n					\n						: \n					\n						 \n						Second(s) \n					\n				\n			\n			\n				\n				\n				\n				\n			\n				\n				\n			\n				\n				\n				\n				\n				\n				\n				\n				\n				\n				\n				\n				\n				\n			\n				\n				\n				\n				\n				\n				\n				\n				\n				\n				New Landing Page and Registration Form! \nThank you for your interest in our December 11th event. We have moved our landing page to a new URL! Please see below for our up-to-date speaker list\, agenda\, and registration form.  \nURL: https://events.atarc.org/cio-summit25/
URL:https://atarc.org/event/cio25/
LOCATION:Carahsoft Conference & Collaboration Center\, 11493 Sunset Hills Rd\, Reston\, VA\, 20190\, United States
CATEGORIES:What’s happening at ATARC
END:VEVENT
END:VCALENDAR