BEGIN:VCALENDAR
VERSION:2.0
PRODID:-//ATARC - ECPv6.15.20//NONSGML v1.0//EN
CALSCALE:GREGORIAN
METHOD:PUBLISH
X-WR-CALNAME:ATARC
X-ORIGINAL-URL:https://atarc.org
X-WR-CALDESC:Events for ATARC
REFRESH-INTERVAL;VALUE=DURATION:PT1H
X-Robots-Tag:noindex
X-PUBLISHED-TTL:PT1H
BEGIN:VTIMEZONE
TZID:America/New_York
BEGIN:DAYLIGHT
TZOFFSETFROM:-0500
TZOFFSETTO:-0400
TZNAME:EDT
DTSTART:20250309T070000
END:DAYLIGHT
BEGIN:STANDARD
TZOFFSETFROM:-0400
TZOFFSETTO:-0500
TZNAME:EST
DTSTART:20251102T060000
END:STANDARD
BEGIN:DAYLIGHT
TZOFFSETFROM:-0500
TZOFFSETTO:-0400
TZNAME:EDT
DTSTART:20260308T070000
END:DAYLIGHT
BEGIN:STANDARD
TZOFFSETFROM:-0400
TZOFFSETTO:-0500
TZNAME:EST
DTSTART:20261101T060000
END:STANDARD
BEGIN:DAYLIGHT
TZOFFSETFROM:-0500
TZOFFSETTO:-0400
TZNAME:EDT
DTSTART:20270314T070000
END:DAYLIGHT
BEGIN:STANDARD
TZOFFSETFROM:-0400
TZOFFSETTO:-0500
TZNAME:EST
DTSTART:20271107T060000
END:STANDARD
BEGIN:DAYLIGHT
TZOFFSETFROM:-0500
TZOFFSETTO:-0400
TZNAME:EDT
DTSTART:20280312T070000
END:DAYLIGHT
BEGIN:STANDARD
TZOFFSETFROM:-0400
TZOFFSETTO:-0500
TZNAME:EST
DTSTART:20281105T060000
END:STANDARD
END:VTIMEZONE
BEGIN:VEVENT
DTSTART;TZID=America/New_York:20260430T103000
DTEND;TZID=America/New_York:20260430T113000
DTSTAMP:20260419T081646
CREATED:20250212T174940Z
LAST-MODIFIED:20251110T203636Z
UID:990003870-1777545000-1777548600@atarc.org
SUMMARY:Fraud Detection and Mitigation Working Group
DESCRIPTION:Join ATARC’s Fraud Working Group bi-weekly\, Thursday morning meeting. For more information on ATARC Working Groups\, contact our Working Group Team at workinggroups@atarc.org.
URL:https://atarc.org/event/987505184/2026-04-30/
LOCATION:Virtual
CATEGORIES:Working Group Meeting
END:VEVENT
BEGIN:VEVENT
DTSTART;TZID=America/New_York:20260514T103000
DTEND;TZID=America/New_York:20260514T113000
DTSTAMP:20260419T081646
CREATED:20250212T174940Z
LAST-MODIFIED:20251110T203636Z
UID:990003871-1778754600-1778758200@atarc.org
SUMMARY:Fraud Detection and Mitigation Working Group
DESCRIPTION:Join ATARC’s Fraud Working Group bi-weekly\, Thursday morning meeting. For more information on ATARC Working Groups\, contact our Working Group Team at workinggroups@atarc.org.
URL:https://atarc.org/event/987505184/2026-05-14/
LOCATION:Virtual
CATEGORIES:Working Group Meeting
END:VEVENT
BEGIN:VEVENT
DTSTART;TZID=America/New_York:20260528T103000
DTEND;TZID=America/New_York:20260528T113000
DTSTAMP:20260419T081646
CREATED:20250212T174940Z
LAST-MODIFIED:20251110T203636Z
UID:990003872-1779964200-1779967800@atarc.org
SUMMARY:Fraud Detection and Mitigation Working Group
DESCRIPTION:Join ATARC’s Fraud Working Group bi-weekly\, Thursday morning meeting. For more information on ATARC Working Groups\, contact our Working Group Team at workinggroups@atarc.org.
URL:https://atarc.org/event/987505184/2026-05-28/
LOCATION:Virtual
CATEGORIES:Working Group Meeting
END:VEVENT
BEGIN:VEVENT
DTSTART;TZID=America/New_York:20260611T103000
DTEND;TZID=America/New_York:20260611T113000
DTSTAMP:20260419T081646
CREATED:20250212T174940Z
LAST-MODIFIED:20251110T203636Z
UID:990003873-1781173800-1781177400@atarc.org
SUMMARY:Fraud Detection and Mitigation Working Group
DESCRIPTION:Join ATARC’s Fraud Working Group bi-weekly\, Thursday morning meeting. For more information on ATARC Working Groups\, contact our Working Group Team at workinggroups@atarc.org.
URL:https://atarc.org/event/987505184/2026-06-11/
LOCATION:Virtual
CATEGORIES:Working Group Meeting
END:VEVENT
BEGIN:VEVENT
DTSTART;TZID=America/New_York:20260625T103000
DTEND;TZID=America/New_York:20260625T113000
DTSTAMP:20260419T081646
CREATED:20250212T174940Z
LAST-MODIFIED:20251110T203636Z
UID:990003874-1782383400-1782387000@atarc.org
SUMMARY:Fraud Detection and Mitigation Working Group
DESCRIPTION:Join ATARC’s Fraud Working Group bi-weekly\, Thursday morning meeting. For more information on ATARC Working Groups\, contact our Working Group Team at workinggroups@atarc.org.
URL:https://atarc.org/event/987505184/2026-06-25/
LOCATION:Virtual
CATEGORIES:Working Group Meeting
END:VEVENT
BEGIN:VEVENT
DTSTART;TZID=America/New_York:20260709T103000
DTEND;TZID=America/New_York:20260709T113000
DTSTAMP:20260419T081646
CREATED:20250212T174940Z
LAST-MODIFIED:20251110T203636Z
UID:990003875-1783593000-1783596600@atarc.org
SUMMARY:Fraud Detection and Mitigation Working Group
DESCRIPTION:Join ATARC’s Fraud Working Group bi-weekly\, Thursday morning meeting. For more information on ATARC Working Groups\, contact our Working Group Team at workinggroups@atarc.org.
URL:https://atarc.org/event/987505184/2026-07-09/
LOCATION:Virtual
CATEGORIES:Working Group Meeting
END:VEVENT
BEGIN:VEVENT
DTSTART;TZID=America/New_York:20260723T103000
DTEND;TZID=America/New_York:20260723T113000
DTSTAMP:20260419T081646
CREATED:20250212T174940Z
LAST-MODIFIED:20251110T203636Z
UID:990003876-1784802600-1784806200@atarc.org
SUMMARY:Fraud Detection and Mitigation Working Group
DESCRIPTION:Join ATARC’s Fraud Working Group bi-weekly\, Thursday morning meeting. For more information on ATARC Working Groups\, contact our Working Group Team at workinggroups@atarc.org.
URL:https://atarc.org/event/987505184/2026-07-23/
LOCATION:Virtual
CATEGORIES:Working Group Meeting
END:VEVENT
BEGIN:VEVENT
DTSTART;TZID=America/New_York:20260806T103000
DTEND;TZID=America/New_York:20260806T113000
DTSTAMP:20260419T081646
CREATED:20250212T174940Z
LAST-MODIFIED:20251110T203636Z
UID:990003877-1786012200-1786015800@atarc.org
SUMMARY:Fraud Detection and Mitigation Working Group
DESCRIPTION:Join ATARC’s Fraud Working Group bi-weekly\, Thursday morning meeting. For more information on ATARC Working Groups\, contact our Working Group Team at workinggroups@atarc.org.
URL:https://atarc.org/event/987505184/2026-08-06/
LOCATION:Virtual
CATEGORIES:Working Group Meeting
END:VEVENT
BEGIN:VEVENT
DTSTART;TZID=America/New_York:20260820T103000
DTEND;TZID=America/New_York:20260820T113000
DTSTAMP:20260419T081646
CREATED:20250212T174940Z
LAST-MODIFIED:20251110T203636Z
UID:990003878-1787221800-1787225400@atarc.org
SUMMARY:Fraud Detection and Mitigation Working Group
DESCRIPTION:Join ATARC’s Fraud Working Group bi-weekly\, Thursday morning meeting. For more information on ATARC Working Groups\, contact our Working Group Team at workinggroups@atarc.org.
URL:https://atarc.org/event/987505184/2026-08-20/
LOCATION:Virtual
CATEGORIES:Working Group Meeting
END:VEVENT
BEGIN:VEVENT
DTSTART;TZID=America/New_York:20260903T103000
DTEND;TZID=America/New_York:20260903T113000
DTSTAMP:20260419T081646
CREATED:20250212T174940Z
LAST-MODIFIED:20251110T203636Z
UID:990003879-1788431400-1788435000@atarc.org
SUMMARY:Fraud Detection and Mitigation Working Group
DESCRIPTION:Join ATARC’s Fraud Working Group bi-weekly\, Thursday morning meeting. For more information on ATARC Working Groups\, contact our Working Group Team at workinggroups@atarc.org.
URL:https://atarc.org/event/987505184/2026-09-03/
LOCATION:Virtual
CATEGORIES:Working Group Meeting
END:VEVENT
BEGIN:VEVENT
DTSTART;TZID=America/New_York:20260917T103000
DTEND;TZID=America/New_York:20260917T113000
DTSTAMP:20260419T081646
CREATED:20250212T174940Z
LAST-MODIFIED:20251110T203636Z
UID:990003880-1789641000-1789644600@atarc.org
SUMMARY:Fraud Detection and Mitigation Working Group
DESCRIPTION:Join ATARC’s Fraud Working Group bi-weekly\, Thursday morning meeting. For more information on ATARC Working Groups\, contact our Working Group Team at workinggroups@atarc.org.
URL:https://atarc.org/event/987505184/2026-09-17/
LOCATION:Virtual
CATEGORIES:Working Group Meeting
END:VEVENT
BEGIN:VEVENT
DTSTART;TZID=America/New_York:20261001T103000
DTEND;TZID=America/New_York:20261001T113000
DTSTAMP:20260419T081646
CREATED:20250212T174940Z
LAST-MODIFIED:20251110T203636Z
UID:990003881-1790850600-1790854200@atarc.org
SUMMARY:Fraud Detection and Mitigation Working Group
DESCRIPTION:Join ATARC’s Fraud Working Group bi-weekly\, Thursday morning meeting. For more information on ATARC Working Groups\, contact our Working Group Team at workinggroups@atarc.org.
URL:https://atarc.org/event/987505184/2026-10-01/
LOCATION:Virtual
CATEGORIES:Working Group Meeting
END:VEVENT
BEGIN:VEVENT
DTSTART;TZID=America/New_York:20261015T103000
DTEND;TZID=America/New_York:20261015T113000
DTSTAMP:20260419T081646
CREATED:20250212T174940Z
LAST-MODIFIED:20251110T203636Z
UID:990004836-1792060200-1792063800@atarc.org
SUMMARY:Fraud Detection and Mitigation Working Group
DESCRIPTION:Join ATARC’s Fraud Working Group bi-weekly\, Thursday morning meeting. For more information on ATARC Working Groups\, contact our Working Group Team at workinggroups@atarc.org.
URL:https://atarc.org/event/987505184/2026-10-15/
LOCATION:Virtual
CATEGORIES:Working Group Meeting
END:VEVENT
BEGIN:VEVENT
DTSTART;TZID=America/New_York:20261029T103000
DTEND;TZID=America/New_York:20261029T113000
DTSTAMP:20260419T081646
CREATED:20250212T174940Z
LAST-MODIFIED:20251110T203636Z
UID:990004859-1793269800-1793273400@atarc.org
SUMMARY:Fraud Detection and Mitigation Working Group
DESCRIPTION:Join ATARC’s Fraud Working Group bi-weekly\, Thursday morning meeting. For more information on ATARC Working Groups\, contact our Working Group Team at workinggroups@atarc.org.
URL:https://atarc.org/event/987505184/2026-10-29/
LOCATION:Virtual
CATEGORIES:Working Group Meeting
END:VEVENT
BEGIN:VEVENT
DTSTART;TZID=America/New_York:20261112T103000
DTEND;TZID=America/New_York:20261112T113000
DTSTAMP:20260419T081646
CREATED:20250212T174940Z
LAST-MODIFIED:20251110T203636Z
UID:990005144-1794479400-1794483000@atarc.org
SUMMARY:Fraud Detection and Mitigation Working Group
DESCRIPTION:Join ATARC’s Fraud Working Group bi-weekly\, Thursday morning meeting. For more information on ATARC Working Groups\, contact our Working Group Team at workinggroups@atarc.org.
URL:https://atarc.org/event/987505184/2026-11-12/
LOCATION:Virtual
CATEGORIES:Working Group Meeting
END:VEVENT
BEGIN:VEVENT
DTSTART;TZID=America/New_York:20261126T103000
DTEND;TZID=America/New_York:20261126T113000
DTSTAMP:20260419T081646
CREATED:20250212T174940Z
LAST-MODIFIED:20251110T203636Z
UID:990005145-1795689000-1795692600@atarc.org
SUMMARY:Fraud Detection and Mitigation Working Group
DESCRIPTION:Join ATARC’s Fraud Working Group bi-weekly\, Thursday morning meeting. For more information on ATARC Working Groups\, contact our Working Group Team at workinggroups@atarc.org.
URL:https://atarc.org/event/987505184/2026-11-26/
LOCATION:Virtual
CATEGORIES:Working Group Meeting
END:VEVENT
BEGIN:VEVENT
DTSTART;TZID=America/New_York:20261210T103000
DTEND;TZID=America/New_York:20261210T113000
DTSTAMP:20260419T081646
CREATED:20250212T174940Z
LAST-MODIFIED:20251110T203636Z
UID:990005146-1796898600-1796902200@atarc.org
SUMMARY:Fraud Detection and Mitigation Working Group
DESCRIPTION:Join ATARC’s Fraud Working Group bi-weekly\, Thursday morning meeting. For more information on ATARC Working Groups\, contact our Working Group Team at workinggroups@atarc.org.
URL:https://atarc.org/event/987505184/2026-12-10/
LOCATION:Virtual
CATEGORIES:Working Group Meeting
END:VEVENT
BEGIN:VEVENT
DTSTART;TZID=America/New_York:20261224T103000
DTEND;TZID=America/New_York:20261224T113000
DTSTAMP:20260419T081646
CREATED:20250212T174940Z
LAST-MODIFIED:20251110T203636Z
UID:990005147-1798108200-1798111800@atarc.org
SUMMARY:Fraud Detection and Mitigation Working Group
DESCRIPTION:Join ATARC’s Fraud Working Group bi-weekly\, Thursday morning meeting. For more information on ATARC Working Groups\, contact our Working Group Team at workinggroups@atarc.org.
URL:https://atarc.org/event/987505184/2026-12-24/
LOCATION:Virtual
CATEGORIES:Working Group Meeting
END:VEVENT
BEGIN:VEVENT
DTSTART;TZID=America/New_York:20270107T103000
DTEND;TZID=America/New_York:20270107T113000
DTSTAMP:20260419T081646
CREATED:20250212T174940Z
LAST-MODIFIED:20251110T203636Z
UID:990005148-1799317800-1799321400@atarc.org
SUMMARY:Fraud Detection and Mitigation Working Group
DESCRIPTION:Join ATARC’s Fraud Working Group bi-weekly\, Thursday morning meeting. For more information on ATARC Working Groups\, contact our Working Group Team at workinggroups@atarc.org.
URL:https://atarc.org/event/987505184/2027-01-07/
LOCATION:Virtual
CATEGORIES:Working Group Meeting
END:VEVENT
BEGIN:VEVENT
DTSTART;TZID=America/New_York:20270121T103000
DTEND;TZID=America/New_York:20270121T113000
DTSTAMP:20260419T081646
CREATED:20250212T174940Z
LAST-MODIFIED:20251110T203636Z
UID:990005149-1800527400-1800531000@atarc.org
SUMMARY:Fraud Detection and Mitigation Working Group
DESCRIPTION:Join ATARC’s Fraud Working Group bi-weekly\, Thursday morning meeting. For more information on ATARC Working Groups\, contact our Working Group Team at workinggroups@atarc.org.
URL:https://atarc.org/event/987505184/2027-01-21/
LOCATION:Virtual
CATEGORIES:Working Group Meeting
END:VEVENT
BEGIN:VEVENT
DTSTART;TZID=America/New_York:20270204T103000
DTEND;TZID=America/New_York:20270204T113000
DTSTAMP:20260419T081646
CREATED:20250212T174940Z
LAST-MODIFIED:20251110T203636Z
UID:990005150-1801737000-1801740600@atarc.org
SUMMARY:Fraud Detection and Mitigation Working Group
DESCRIPTION:Join ATARC’s Fraud Working Group bi-weekly\, Thursday morning meeting. For more information on ATARC Working Groups\, contact our Working Group Team at workinggroups@atarc.org.
URL:https://atarc.org/event/987505184/2027-02-04/
LOCATION:Virtual
CATEGORIES:Working Group Meeting
END:VEVENT
BEGIN:VEVENT
DTSTART;TZID=America/New_York:20270218T103000
DTEND;TZID=America/New_York:20270218T113000
DTSTAMP:20260419T081646
CREATED:20250212T174940Z
LAST-MODIFIED:20251110T203636Z
UID:990005151-1802946600-1802950200@atarc.org
SUMMARY:Fraud Detection and Mitigation Working Group
DESCRIPTION:Join ATARC’s Fraud Working Group bi-weekly\, Thursday morning meeting. For more information on ATARC Working Groups\, contact our Working Group Team at workinggroups@atarc.org.
URL:https://atarc.org/event/987505184/2027-02-18/
LOCATION:Virtual
CATEGORIES:Working Group Meeting
END:VEVENT
BEGIN:VEVENT
DTSTART;TZID=America/New_York:20270304T103000
DTEND;TZID=America/New_York:20270304T113000
DTSTAMP:20260419T081646
CREATED:20250212T174940Z
LAST-MODIFIED:20251110T203636Z
UID:990005152-1804156200-1804159800@atarc.org
SUMMARY:Fraud Detection and Mitigation Working Group
DESCRIPTION:Join ATARC’s Fraud Working Group bi-weekly\, Thursday morning meeting. For more information on ATARC Working Groups\, contact our Working Group Team at workinggroups@atarc.org.
URL:https://atarc.org/event/987505184/2027-03-04/
LOCATION:Virtual
CATEGORIES:Working Group Meeting
END:VEVENT
BEGIN:VEVENT
DTSTART;TZID=America/New_York:20270318T103000
DTEND;TZID=America/New_York:20270318T113000
DTSTAMP:20260419T081646
CREATED:20250212T174940Z
LAST-MODIFIED:20251110T203636Z
UID:990005187-1805365800-1805369400@atarc.org
SUMMARY:Fraud Detection and Mitigation Working Group
DESCRIPTION:Join ATARC’s Fraud Working Group bi-weekly\, Thursday morning meeting. For more information on ATARC Working Groups\, contact our Working Group Team at workinggroups@atarc.org.
URL:https://atarc.org/event/987505184/2027-03-18/
LOCATION:Virtual
CATEGORIES:Working Group Meeting
END:VEVENT
BEGIN:VEVENT
DTSTART;TZID=America/New_York:20270401T103000
DTEND;TZID=America/New_York:20270401T113000
DTSTAMP:20260419T081646
CREATED:20250212T174940Z
LAST-MODIFIED:20251110T203636Z
UID:990005196-1806575400-1806579000@atarc.org
SUMMARY:Fraud Detection and Mitigation Working Group
DESCRIPTION:Join ATARC’s Fraud Working Group bi-weekly\, Thursday morning meeting. For more information on ATARC Working Groups\, contact our Working Group Team at workinggroups@atarc.org.
URL:https://atarc.org/event/987505184/2027-04-01/
LOCATION:Virtual
CATEGORIES:Working Group Meeting
END:VEVENT
END:VCALENDAR